BEGIN:VCALENDAR
VERSION:2.0
PRODID:-//Medical Scientist Training Program//NONSGML Events//EN
CALSCALE:GREGORIAN
X-ORIGINAL-URL:https://mstp.wustl.edu/events/
X-WR-CALDESC:Medical Scientist Training Program - Events
BEGIN:VEVENT
UID:20240724T2301Z-1721862109.1874-EO-5017-1@172.23.128.18
STATUS:CONFIRMED
DTSTAMP:20260420T013412Z
CREATED:20240724T182443Z
LAST-MODIFIED:20240724T182443Z
DTSTART;TZID=America/Chicago:20240822T163000
DTEND;TZID=America/Chicago:20240822T193000
SUMMARY: MSTP Annual Picnic
DESCRIPTION: MSTP annual picnic at Shaw Park\, Clayton\, MO
X-ALT-DESC;FMTTYPE=text/html: <p>MSTP annual picnic at Shaw Park\, Clayton\
 , MO</p>
ORGANIZER;CN="Linda":MAILTO:lindaperniciaro@wustl.edu
URL;VALUE=URI:https://mstp.wustl.edu/events/event/mstp-annual-picnic/
END:VEVENT
BEGIN:VTIMEZONE
TZID:America/Chicago
BEGIN:DAYLIGHT
TZOFFSETFROM:-0600
TZOFFSETTO:-0500
DTSTART:20240310T080000
TZNAME:CDT
END:DAYLIGHT
END:VTIMEZONE
END:VCALENDAR
