BEGIN:VCALENDAR
VERSION:2.0
PRODID:-//Medical Scientist Training Program//NONSGML Events//EN
CALSCALE:GREGORIAN
X-ORIGINAL-URL:https://mstp.wustl.edu/events/
X-WR-CALDESC:Medical Scientist Training Program - Events
BEGIN:VEVENT
UID:20230520T2122Z-1684617754.2381-EO-2315-1@172.23.128.18
STATUS:CONFIRMED
DTSTAMP:20260420T005727Z
CREATED:20230519T173333Z
LAST-MODIFIED:20230519T175627Z
DTSTART;TZID=America/Chicago:20230520T083000
DTEND;TZID=America/Chicago:20230520T203000
SUMMARY: MSTP Retreat
DESCRIPTION: The MSTP Department (administration\, trainees\, and guests) w
 ill hold their retreat this year in the Charles F. Knight Center on the Was
 h U Danforth campus.  The retreat serves as a way for faculty\, learners\, 
 and staff to connect and celebrate their research efforts across a spectrum
  that includes basic\, clinical\, and translational studies.
X-ALT-DESC;FMTTYPE=text/html: <p>The MSTP Department (administration\, trai
 nees\, and guests) will hold their retreat this year in the Charles F. Knig
 ht Center on the Wash U Danforth campus.  The retreat serves as a way for f
 aculty\, learners\, and staff to connect and celebrate their research effor
 ts across a spectrum that includes basic\, clinical\, and translational stu
 dies.</p>
CATEGORIES:Retreats
LOCATION:Charles F Knight Executive Education and Conference Center
GEO:38.628028;-90.191015
ORGANIZER;CN="Rakiyah":MAILTO:rtalavedra@wustl.edu
URL;VALUE=URI:https://mstp.wustl.edu/events/event/mstp-retreat/
END:VEVENT
BEGIN:VTIMEZONE
TZID:America/Chicago
BEGIN:DAYLIGHT
TZOFFSETFROM:-0600
TZOFFSETTO:-0500
DTSTART:20230312T080000
TZNAME:CDT
END:DAYLIGHT
END:VTIMEZONE
END:VCALENDAR
