BEGIN:VCALENDAR
VERSION:2.0
PRODID:-//Medical Scientist Training Program//NONSGML Events//EN
CALSCALE:GREGORIAN
X-ORIGINAL-URL:https://mstp.wustl.edu/events/
X-WR-CALDESC:Medical Scientist Training Program - Events
BEGIN:VEVENT
UID:20230927T0248Z-1695782934.2799-EO-2740-1@172.23.128.18
STATUS:CONFIRMED
DTSTAMP:20260416T085344Z
CREATED:20230926T161945Z
LAST-MODIFIED:20230926T162040Z
DTSTART;TZID=America/Chicago:20231012T170000
DTEND;TZID=America/Chicago:20231012T180000
SUMMARY: MSTP Student Meeting
DESCRIPTION: Work in Progress – Jamie Moffa –  Jamie is in her 4th PhD year
  in the Neurosciences program’ working in the lab of Drs. Robert Gereau and
  Bryan Copits “TBA”   Jose Mazzitelli Perez-  Jose is in his 4th PhD year i
 n the Neurosciences program\; working in the lab of  Dr. Jonathan Kipnis “T
 BA”
X-ALT-DESC;FMTTYPE=text/html: <p>Work in Progress -</p><p><strong>Jamie Mof
 fa - </strong></p><p>Jamie is in her 4th PhD year in the Neurosciences prog
 ram' working in the lab of Drs. Robert Gereau and Bryan Copits</p><p>"TBA"<
 /p><p> </p><p><strong>Jose Mazzitelli Perez- </strong></p><p>Jose is in his
  4th PhD year in the Neurosciences program\; working in the lab of  Dr. Jon
 athan Kipnis</p><p>"TBA"</p>
LOCATION:Farrell Learning &amp\; Teaching Center\, Holden Auditorium
GEO:38.636032;-90.262806
ORGANIZER;CN="Linda":MAILTO:lindaperniciaro@wustl.edu
URL;VALUE=URI:https://mstp.wustl.edu/events/event/mstp-student-meeting-2/
END:VEVENT
BEGIN:VTIMEZONE
TZID:America/Chicago
BEGIN:DAYLIGHT
TZOFFSETFROM:-0600
TZOFFSETTO:-0500
DTSTART:20230312T080000
TZNAME:CDT
END:DAYLIGHT
END:VTIMEZONE
END:VCALENDAR
