BEGIN:VCALENDAR
VERSION:2.0
PRODID:-//Medical Scientist Training Program//NONSGML Events//EN
CALSCALE:GREGORIAN
X-ORIGINAL-URL:https://mstp.wustl.edu/events/
X-WR-CALDESC:Medical Scientist Training Program - Events
BEGIN:VEVENT
UID:20230927T0248Z-1695782934.2749-EO-2739-1@172.23.128.18
STATUS:CONFIRMED
DTSTAMP:20260421T170527Z
CREATED:20230926T161513Z
LAST-MODIFIED:20230926T161513Z
DTSTART;TZID=America/Chicago:20231005T170000
DTEND;TZID=America/Chicago:20231005T180000
SUMMARY: MSTP Student Meeting
DESCRIPTION: Future of Medicine – Amynah Pradhan\, Ph.D. Department of Anes
 thesiology\; Molecular Cell Biology program  
X-ALT-DESC;FMTTYPE=text/html: <p>Future of Medicine -</p><p>Amynah Pradhan\
 , Ph.D.</p><p>Department of Anesthesiology\; Molecular Cell Biology program
 </p><p> </p>
ORGANIZER;CN="Linda":MAILTO:lindaperniciaro@wustl.edu
URL;VALUE=URI:https://mstp.wustl.edu/events/event/mstp-student-meeting/
END:VEVENT
BEGIN:VTIMEZONE
TZID:America/Chicago
BEGIN:DAYLIGHT
TZOFFSETFROM:-0600
TZOFFSETTO:-0500
DTSTART:20230312T080000
TZNAME:CDT
END:DAYLIGHT
END:VTIMEZONE
END:VCALENDAR
