BEGIN:VCALENDAR
VERSION:2.0
PRODID:-//Medical Scientist Training Program//NONSGML Events//EN
CALSCALE:GREGORIAN
X-ORIGINAL-URL:https://mstp.wustl.edu/events/
X-WR-CALDESC:Medical Scientist Training Program - Events
BEGIN:VEVENT
UID:20230607T0119Z-1686100771.6549-EO-2327-1@172.23.128.18
STATUS:CONFIRMED
DTSTAMP:20260419T193417Z
CREATED:20230606T182939Z
LAST-MODIFIED:20230606T182939Z
DTSTART;TZID=America/Chicago:20230615T170000
DTEND;TZID=America/Chicago:20230615T180000
SUMMARY: MSTP Weekly Meeting
DESCRIPTION: Discussions on Medical Research –  Tarin Bigley\, M.D.\, Ph.D.
  Department of Pediatrics-Rheumatology\; Molecular Microbiology and Microbi
 al Pathogenesis program    
X-ALT-DESC;FMTTYPE=text/html: <p><strong>Discussions on Medical Research - 
 </strong></p><p><strong> </strong><strong>Tarin Bigley\, M.D.\, Ph.D.</stro
 ng></p><p>Department of Pediatrics-Rheumatology\; Molecular Microbiology an
 d Microbial Pathogenesis program</p><p> </p><p> </p>
CATEGORIES:MSTP Thursday Seminar
LOCATION:Farrell Learning &amp\; Teaching Center\, Holden Auditorium
GEO:38.636032;-90.262806
ORGANIZER;CN="Linda":MAILTO:lindaperniciaro@wustl.edu
URL;VALUE=URI:https://mstp.wustl.edu/events/event/mstp-weekly-meeting-2/
END:VEVENT
BEGIN:VTIMEZONE
TZID:America/Chicago
BEGIN:DAYLIGHT
TZOFFSETFROM:-0600
TZOFFSETTO:-0500
DTSTART:20230312T080000
TZNAME:CDT
END:DAYLIGHT
END:VTIMEZONE
END:VCALENDAR
