BEGIN:VCALENDAR
VERSION:2.0
PRODID:-//Medical Scientist Training Program//NONSGML Events//EN
CALSCALE:GREGORIAN
X-ORIGINAL-URL:https://mstp.wustl.edu/events/
X-WR-CALDESC:Medical Scientist Training Program - Events
BEGIN:VEVENT
UID:20230607T0119Z-1686100771.6706-EO-2328-1@172.23.128.18
STATUS:CONFIRMED
DTSTAMP:20260421T170530Z
CREATED:20230606T183417Z
LAST-MODIFIED:20230606T183417Z
DTSTART;TZID=America/Chicago:20230629T170000
DTEND;TZID=America/Chicago:20230629T180000
SUMMARY: MSTP Weekly Meeting
DESCRIPTION: Wildcard –  Dr. Ava Aagaard – Vice Chancellor for Medical Educ
 ation\, Sr Associate Dean for Education\, Professor of Medicine “Future of 
 Medical Education and Practice”
X-ALT-DESC;FMTTYPE=text/html: <p><strong>Wildcard - </strong></p><p>Dr. Ava
  Aagaard - Vice Chancellor for Medical Education\, Sr Associate Dean for Ed
 ucation\, Professor of Medicine</p><p>"Future of Medical Education and Prac
 tice"</p>
LOCATION:Farrell Learning &amp\; Teaching Center\, Holden Auditorium
GEO:38.636032;-90.262806
ORGANIZER;CN="Linda":MAILTO:lindaperniciaro@wustl.edu
URL;VALUE=URI:https://mstp.wustl.edu/events/event/mstp-weekly-meeting-3/
END:VEVENT
BEGIN:VTIMEZONE
TZID:America/Chicago
BEGIN:DAYLIGHT
TZOFFSETFROM:-0600
TZOFFSETTO:-0500
DTSTART:20230312T080000
TZNAME:CDT
END:DAYLIGHT
END:VTIMEZONE
END:VCALENDAR
