BEGIN:VCALENDAR
VERSION:2.0
PRODID:-//Medical Scientist Training Program//NONSGML Events//EN
CALSCALE:GREGORIAN
X-ORIGINAL-URL:https://mstp.wustl.edu/events/
X-WR-CALDESC:Medical Scientist Training Program - Events
BEGIN:VEVENT
UID:20230607T0119Z-1686100771.6656-EO-2329-1@172.23.128.18
STATUS:CONFIRMED
DTSTAMP:20260421T170537Z
CREATED:20230606T183627Z
LAST-MODIFIED:20230606T183627Z
DTSTART;TZID=America/Chicago:20230622T170000
DTEND;TZID=America/Chicago:20230622T180000
SUMMARY: MSTP Weekly Meeting
DESCRIPTION: Wildcard –  PSTP Directors – Dr. Julie Schwarz\, Dr. Jackie Pa
 yton\, Dr. Deborah Lenschow
X-ALT-DESC;FMTTYPE=text/html: <p><strong>Wildcard - </strong></p><p>PSTP Di
 rectors -</p><p>Dr. Julie Schwarz\, Dr. Jackie Payton\, Dr. Deborah Lenscho
 w</p>
LOCATION:Farrell Learning &amp\; Teaching Center\, Holden Auditorium
GEO:38.636032;-90.262806
ORGANIZER;CN="Linda":MAILTO:lindaperniciaro@wustl.edu
URL;VALUE=URI:https://mstp.wustl.edu/events/event/mstp-weekly-meeting-4/
END:VEVENT
BEGIN:VTIMEZONE
TZID:America/Chicago
BEGIN:DAYLIGHT
TZOFFSETFROM:-0600
TZOFFSETTO:-0500
DTSTART:20230312T080000
TZNAME:CDT
END:DAYLIGHT
END:VTIMEZONE
END:VCALENDAR
