BEGIN:VCALENDAR
VERSION:2.0
PRODID:-//Medical Scientist Training Program//NONSGML Events//EN
CALSCALE:GREGORIAN
X-ORIGINAL-URL:https://mstp.wustl.edu/events/
X-WR-CALDESC:Medical Scientist Training Program - Events
BEGIN:VEVENT
UID:20230718T1206Z-1689681974.5815-EO-2420-1@172.23.128.18
STATUS:CONFIRMED
DTSTAMP:20260421T170527Z
CREATED:20230714T151730Z
LAST-MODIFIED:20230714T151730Z
DTSTART;TZID=America/Chicago:20230720T170000
DTEND;TZID=America/Chicago:20230720T180000
SUMMARY: MSTP Weekly Meeting
DESCRIPTION: James Duncan\, MD\, PhD  Chief of Interventional Radiology for
  Mallinckrodt Institute of Radiology
X-ALT-DESC;FMTTYPE=text/html: <p>James Duncan\, MD\, PhD</p><p><strong> </s
 trong>Chief of Interventional Radiology for Mallinckrodt Institute of Radio
 logy</p>
CATEGORIES:MSTP Thursday Seminar
LOCATION:Farrell Learning &amp\; Teaching Center\, Holden Auditorium
GEO:38.636032;-90.262806
ORGANIZER;CN="Linda":MAILTO:lindaperniciaro@wustl.edu
URL;VALUE=URI:https://mstp.wustl.edu/events/event/mstp-weekly-meeting-7/
END:VEVENT
BEGIN:VTIMEZONE
TZID:America/Chicago
BEGIN:DAYLIGHT
TZOFFSETFROM:-0600
TZOFFSETTO:-0500
DTSTART:20230312T080000
TZNAME:CDT
END:DAYLIGHT
END:VTIMEZONE
END:VCALENDAR
