BEGIN:VCALENDAR
VERSION:2.0
PRODID:-//Medical Scientist Training Program//NONSGML Events//EN
CALSCALE:GREGORIAN
X-ORIGINAL-URL:https://mstp.wustl.edu/events/
X-WR-CALDESC:Medical Scientist Training Program - Events
BEGIN:VEVENT
UID:20230718T0809Z-1689667793.5193-EO-2421-1@172.23.128.18
STATUS:CONFIRMED
DTSTAMP:20260421T170535Z
CREATED:20230714T152143Z
LAST-MODIFIED:20230714T152143Z
DTSTART;TZID=America/Chicago:20230803T170000
DTEND;TZID=America/Chicago:20230803T180000
SUMMARY: MSTP Weekly Meeting
DESCRIPTION: Future of Medicine –  Jason Yi\, Ph.D.        Department of Ne
 urosciences\; Molecular Cell Biology program
X-ALT-DESC;FMTTYPE=text/html: <p><strong>Future of Medicine - </strong></p>
 <p><strong> </strong><strong>Jason Yi\, Ph.D.</strong></p><p><strong>      
  </strong>Department of Neurosciences\; Molecular Cell Biology program</p>
CATEGORIES:MSTP Thursday Seminar
LOCATION:Farrell Learning &amp\; Teaching Center\, Holden Auditorium
GEO:38.636032;-90.262806
ORGANIZER;CN="Linda":MAILTO:lindaperniciaro@wustl.edu
URL;VALUE=URI:https://mstp.wustl.edu/events/event/mstp-weekly-meeting-8/
END:VEVENT
BEGIN:VTIMEZONE
TZID:America/Chicago
BEGIN:DAYLIGHT
TZOFFSETFROM:-0600
TZOFFSETTO:-0500
DTSTART:20230312T080000
TZNAME:CDT
END:DAYLIGHT
END:VTIMEZONE
END:VCALENDAR
