BEGIN:VCALENDAR
VERSION:2.0
PRODID:-//Medical Scientist Training Program//NONSGML Events//EN
CALSCALE:GREGORIAN
X-ORIGINAL-URL:https://mstp.wustl.edu/events/
X-WR-CALDESC:Medical Scientist Training Program - Events
BEGIN:VEVENT
UID:20230718T1206Z-1689681974.5909-EO-2422-1@172.23.128.18
STATUS:CONFIRMED
DTSTAMP:20260417T204914Z
CREATED:20230714T152938Z
LAST-MODIFIED:20230714T152938Z
DTSTART;TZID=America/Chicago:20230810T170000
DTEND;TZID=America/Chicago:20230810T180000
SUMMARY: MSTP Weekly Meeting
DESCRIPTION: Work in Progress (WIP) – The two MSTP students are:   Kwang Ji
 n (Moses) Chung—4th Ph.D. level in the Physics program\; working in the lab
  of Dr. Jay Ponder “TBA”       Nicole Hamagami—4th Ph.D. level in the Molec
 ular Genetics & Genomics program\; working in the lab of Dr. Harrison Gabel
  “TBA”  
X-ALT-DESC;FMTTYPE=text/html: <p><strong>Work in Progress (WIP)</strong> <s
 trong>– </strong></p><p>The two MSTP students are:</p><p> </p><p><strong>Kw
 ang Jin (Moses) Chung</strong>—4th Ph.D. level in the Physics program\; wor
 king in the lab of Dr. Jay Ponder</p><p>"TBA"</p><p> </p><p> </p><p> </p><p
 ><b>Nicole Hamagami</b>—4th Ph.D. level in the Molecular Genetics & Genomic
 s program\; working in the lab of Dr. Harrison Gabel</p><p>"TBA"</p><p> </p
 >
CATEGORIES:MSTP Thursday Seminar
LOCATION:Farrell Learning &amp\; Teaching Center\, Holden Auditorium
GEO:38.636032;-90.262806
ORGANIZER;CN="Linda":MAILTO:lindaperniciaro@wustl.edu
URL;VALUE=URI:https://mstp.wustl.edu/events/event/mstp-weekly-meeting-9/
END:VEVENT
BEGIN:VTIMEZONE
TZID:America/Chicago
BEGIN:DAYLIGHT
TZOFFSETFROM:-0600
TZOFFSETTO:-0500
DTSTART:20230312T080000
TZNAME:CDT
END:DAYLIGHT
END:VTIMEZONE
END:VCALENDAR
