BEGIN:VCALENDAR
VERSION:2.0
PRODID:-//Medical Scientist Training Program//NONSGML Events//EN
CALSCALE:GREGORIAN
X-ORIGINAL-URL:https://mstp.wustl.edu/events/
X-WR-CALDESC:Medical Scientist Training Program - Events
BEGIN:VEVENT
UID:20230607T0119Z-1686100771.644-EO-2322-1@172.23.128.18
STATUS:CONFIRMED
DTSTAMP:20260416T073817Z
CREATED:20230606T162938Z
LAST-MODIFIED:20230606T162938Z
DTSTART;TZID=America/Chicago:20230608T170000
DTEND;TZID=America/Chicago:20230608T180000
SUMMARY: MSTP Weekly Meeting
DESCRIPTION: Work In Progress (WIP) Favour Akinjiyan – 3rd Ph.D. Level/ Mol
 ecular Microbiology & Microbial Pathogenesis\; working in the lab of Dr. Gr
 eg Longmore and Dr. Katherine Fuh. “DDR2-regulated arginase activity in ova
 rian cancer-associated fibroblasts promotes collagen production and tumor p
 rogression.” Cyrus Zhou – 4th Ph.D. Level/Molecular Microbiology & Microbia
 l Pathogenesis\; working in the lab of […]
X-ALT-DESC;FMTTYPE=text/html: <p><strong>Work In Progress (WIP)</strong></p
 ><p><strong>Favour Akinjiyan</strong> - 3rd Ph.D. Level/ Molecular Microbio
 logy & Microbial Pathogenesis\; working in the lab of Dr. Greg Longmore and
  Dr. Katherine Fuh.<br />"DDR2-regulated arginase activity in ovarian cance
 r-associated fibroblasts promotes collagen production and tumor progression
 ."</p><p><strong>Cyrus Zhou</strong> - 4th Ph.D. Level/Molecular Microbiolo
 gy & Microbial Pathogenesis\; working in the lab of Dr. Jeffrey Gordon.<br 
 />"Dietary glucomannan promotes host growth in a <em>Prevotella copri-depen
 dent</em> manner."</p>
LOCATION:Farrell Learning &amp\; Teaching Center\, Holden Auditorium
GEO:38.636032;-90.262806
ORGANIZER;CN="Rakiyah":MAILTO:rtalavedra@wustl.edu
URL;VALUE=URI:https://mstp.wustl.edu/events/event/mstp-weekly-meeting/
END:VEVENT
BEGIN:VTIMEZONE
TZID:America/Chicago
BEGIN:DAYLIGHT
TZOFFSETFROM:-0600
TZOFFSETTO:-0500
DTSTART:20230312T080000
TZNAME:CDT
END:DAYLIGHT
END:VTIMEZONE
END:VCALENDAR
