BEGIN:VCALENDAR
VERSION:2.0
PRODID:-//Medical Scientist Training Program//NONSGML Events//EN
CALSCALE:GREGORIAN
X-ORIGINAL-URL:https://mstp.wustl.edu/events/
X-WR-CALDESC:Medical Scientist Training Program - Events
BEGIN:VEVENT
UID:20240305T0204Z-1709604261.7208-EO-4947-1@172.23.128.18
STATUS:CONFIRMED
DTSTAMP:20260424T071620Z
CREATED:20240304T175954Z
LAST-MODIFIED:20240304T175954Z
DTSTART;TZID=America/Chicago:20240404T170000
DTEND;TZID=America/Chicago:20240404T180000
SUMMARY: MSTP Weekly Student Meeting
DESCRIPTION: Future of Medicine (FOM) – Cynthia Rogers\, M.D. Department of
  Psychiatry-Child and Adolescent\; Neurosciences program
X-ALT-DESC;FMTTYPE=text/html: <p>Future of Medicine (FOM) -</p><p>Cynthia R
 ogers\, M.D.</p><p>Department of Psychiatry-Child and Adolescent\; Neurosci
 ences program</p>
LOCATION:Farrell Learning &amp\; Teaching Center\, Holden Auditorium
GEO:38.636032;-90.262806
ORGANIZER;CN="Linda":MAILTO:lindaperniciaro@wustl.edu
URL;VALUE=URI:https://mstp.wustl.edu/events/event/mstp-weekly-student-meeti
 ng-13/
END:VEVENT
BEGIN:VTIMEZONE
TZID:America/Chicago
BEGIN:DAYLIGHT
TZOFFSETFROM:-0600
TZOFFSETTO:-0500
DTSTART:20240310T080000
TZNAME:CDT
END:DAYLIGHT
END:VTIMEZONE
END:VCALENDAR
