BEGIN:VCALENDAR
VERSION:2.0
PRODID:-//Medical Scientist Training Program//NONSGML Events//EN
CALSCALE:GREGORIAN
X-ORIGINAL-URL:https://mstp.wustl.edu/events/
X-WR-CALDESC:Medical Scientist Training Program - Events
BEGIN:VEVENT
UID:20230927T0248Z-1695782934.2851-EO-2742-1@172.23.128.18
STATUS:CONFIRMED
DTSTAMP:20260420T022033Z
CREATED:20230926T183039Z
LAST-MODIFIED:20230926T183334Z
DTSTART;TZID=America/Chicago:20231019T170000
DTEND;TZID=America/Chicago:20231019T180000
SUMMARY: MSTP weekly student meeting
DESCRIPTION: Discussions on Medical Research – Nima Mosammaparast\, M.D.\, 
  Ph.D. Department of Pathology & Immunology\; Biochemistry\, Biophysics & S
 tructural Biology  
X-ALT-DESC;FMTTYPE=text/html: <p>Discussions on Medical Research -</p><p>Ni
 ma Mosammaparast\, M.D.\,  Ph.D.</p><p>Department of Pathology & Immunology
 \; Biochemistry\, Biophysics & Structural Biology</p><p> </p>
LOCATION:Farrell Learning &amp\; Teaching Center\, Holden Auditorium
GEO:38.636032;-90.262806
ORGANIZER;CN="Linda":MAILTO:lindaperniciaro@wustl.edu
URL;VALUE=URI:https://mstp.wustl.edu/events/event/mstp-weekly-student-meeti
 ng-2/
END:VEVENT
BEGIN:VTIMEZONE
TZID:America/Chicago
BEGIN:DAYLIGHT
TZOFFSETFROM:-0600
TZOFFSETTO:-0500
DTSTART:20230312T080000
TZNAME:CDT
END:DAYLIGHT
END:VTIMEZONE
END:VCALENDAR
