BEGIN:VCALENDAR
VERSION:2.0
PRODID:-//Medical Scientist Training Program//NONSGML Events//EN
CALSCALE:GREGORIAN
X-ORIGINAL-URL:https://mstp.wustl.edu/events/
X-WR-CALDESC:Medical Scientist Training Program - Events
BEGIN:VEVENT
UID:20240510T0305Z-1715310306.8145-EO-4993-1@172.23.128.18
STATUS:CONFIRMED
DTSTAMP:20260416T082034Z
CREATED:20240509T191534Z
LAST-MODIFIED:20240509T191534Z
DTSTART;TZID=America/Chicago:20240919T170000
DTEND;TZID=America/Chicago:20240919T180000
SUMMARY: MSTP Weekly Student Meeting
DESCRIPTION: Discussions on Medical Research – DMR Albert Kim\, MD\, PhD De
 partment of Neurological Surgery\; Cancer Biology program Genetic and epige
 netic changes that drive malignant behavior in brain tumors
X-ALT-DESC;FMTTYPE=text/html: <p>Discussions on Medical Research - DMR</p><
 p><strong>Albert Kim\, MD\, PhD</strong></p><p>Department of Neurological S
 urgery\; Cancer Biology program</p><p><em>Genetic and epigenetic changes th
 at drive malignant behavior in brain tumors</em></p>
LOCATION:Farrell Learning &amp\; Teaching Center\, Holden Auditorium
GEO:38.636032;-90.262806
ORGANIZER;CN="Linda":MAILTO:lindaperniciaro@wustl.edu
URL;VALUE=URI:https://mstp.wustl.edu/events/event/mstp-weekly-student-meeti
 ng-28/
END:VEVENT
BEGIN:VTIMEZONE
TZID:America/Chicago
BEGIN:DAYLIGHT
TZOFFSETFROM:-0600
TZOFFSETTO:-0500
DTSTART:20240310T080000
TZNAME:CDT
END:DAYLIGHT
END:VTIMEZONE
END:VCALENDAR
