BEGIN:VCALENDAR
VERSION:2.0
PRODID:-//Medical Scientist Training Program//NONSGML Events//EN
CALSCALE:GREGORIAN
X-ORIGINAL-URL:https://mstp.wustl.edu/events/
X-WR-CALDESC:Medical Scientist Training Program - Events
BEGIN:VEVENT
UID:20240510T0305Z-1715310306.8188-EO-4994-1@172.23.128.18
STATUS:CONFIRMED
DTSTAMP:20260416T081825Z
CREATED:20240509T191935Z
LAST-MODIFIED:20240509T191935Z
DTSTART;TZID=America/Chicago:20241010T170000
DTEND;TZID=America/Chicago:20241010T180000
SUMMARY: MSTP Weekly Student Meeting
DESCRIPTION: Work in Progress – WIP The 2 students are: Jingxian “Clara” Li
 u – 3rd PhD level in the Computational & Systems Biology program\; working 
 in the lab of Dr. Li Ding “TBA” Collin Nadarajah – 3rd PhD level in the Neu
 rosciences program\; working in the lab of Erik Musiek “TBA”
X-ALT-DESC;FMTTYPE=text/html: <p>Work in Progress - WIP</p><p>The 2 student
 s are:</p><p><strong>Jingxian "Clara" Liu</strong> - 3rd PhD level in the C
 omputational & Systems Biology program\; working in the lab of Dr. Li Ding<
 /p><p>"TBA"</p><p><strong>Collin Nadarajah</strong> - 3rd PhD level in the 
 Neurosciences program\; working in the lab of Erik Musiek</p><p>"TBA"</p>
LOCATION:Farrell Learning &amp\; Teaching Center\, Holden Auditorium
GEO:38.636032;-90.262806
ORGANIZER;CN="Linda":MAILTO:lindaperniciaro@wustl.edu
URL;VALUE=URI:https://mstp.wustl.edu/events/event/mstp-weekly-student-meeti
 ng-29/
END:VEVENT
BEGIN:VTIMEZONE
TZID:America/Chicago
BEGIN:DAYLIGHT
TZOFFSETFROM:-0600
TZOFFSETTO:-0500
DTSTART:20240310T080000
TZNAME:CDT
END:DAYLIGHT
END:VTIMEZONE
END:VCALENDAR
