BEGIN:VCALENDAR
VERSION:2.0
PRODID:-//Medical Scientist Training Program//NONSGML Events//EN
CALSCALE:GREGORIAN
X-ORIGINAL-URL:https://mstp.wustl.edu/events/
X-WR-CALDESC:Medical Scientist Training Program - Events
BEGIN:VEVENT
UID:20230927T0248Z-1695782934.2978-EO-2744-1@172.23.128.18
STATUS:CONFIRMED
DTSTAMP:20260421T170532Z
CREATED:20230926T183950Z
LAST-MODIFIED:20230926T183950Z
DTSTART;TZID=America/Chicago:20231109T170000
DTEND;TZID=America/Chicago:20231109T180000
SUMMARY: MSTP weekly student meeting
DESCRIPTION: Work in Progress – Simona Sarafinovska Simona is a 4th PhD stu
 dent in the Neurosciences program\; work in the lab of Dr. Joe Dougherty “T
 BA” Jesus Bazan Villicana Jesus is a 4th PhD student in the Molecular Micro
 biology & Microbial Pathogenesis program\; working in the lab of Dr. Scott 
 Hultgren “TBA”
X-ALT-DESC;FMTTYPE=text/html: <p>Work in Progress -</p><p><strong>Simona Sa
 rafinovska</strong></p><p>Simona is a 4th PhD student in the Neurosciences 
 program\; work in the lab of Dr. Joe Dougherty</p><p>"TBA"</p><p><strong>Je
 sus Bazan Villicana</strong></p><p>Jesus is a 4th PhD student in the Molecu
 lar Microbiology & Microbial Pathogenesis program\; working in the lab of D
 r. Scott Hultgren</p><p>"TBA"</p>
LOCATION:Farrell Learning &amp\; Teaching Center\, Holden Auditorium
GEO:38.636032;-90.262806
ORGANIZER;CN="Linda":MAILTO:lindaperniciaro@wustl.edu
URL;VALUE=URI:https://mstp.wustl.edu/events/event/mstp-weekly-student-meeti
 ng-3/
END:VEVENT
BEGIN:VTIMEZONE
TZID:America/Chicago
BEGIN:STANDARD
TZOFFSETFROM:-0500
TZOFFSETTO:-0600
DTSTART:20231105T070000
TZNAME:CST
END:STANDARD
END:VTIMEZONE
END:VCALENDAR
