BEGIN:VCALENDAR
VERSION:2.0
PRODID:-//Medical Scientist Training Program//NONSGML Events//EN
CALSCALE:GREGORIAN
X-ORIGINAL-URL:https://mstp.wustl.edu/events/
X-WR-CALDESC:Medical Scientist Training Program - Events
BEGIN:VEVENT
UID:20240510T0305Z-1715310306.84-EO-4998-1@172.23.128.18
STATUS:CONFIRMED
DTSTAMP:20260416T082016Z
CREATED:20240509T193041Z
LAST-MODIFIED:20240509T193041Z
DTSTART;TZID=America/Chicago:20241114T170000
DTEND;TZID=America/Chicago:20241114T180000
SUMMARY: MSTP Weekly Student Meeting
DESCRIPTION: Work in Progress – WIP The 2 students are: Avan Antia – 3rd Ph
 D level in the Molecular Microbiology & Microbial Pathogenesis program\; wo
 rking in the lab of Drs. Siyuan Ding and Gwen Randolph “TBA” Samuel Murphy 
 – 3rd PhD level in the Immunology program\; working in the lab of Drs. Nare
 sha Saligrama & Wayne […]
X-ALT-DESC;FMTTYPE=text/html: <p>Work in Progress - WIP</p><p>The 2 student
 s are:</p><p><strong>Avan Antia</strong> - 3rd PhD level in the Molecular M
 icrobiology & Microbial Pathogenesis program\; working in the lab of Drs. S
 iyuan Ding and Gwen Randolph</p><p>"TBA"</p><p><strong>Samuel Murphy</stron
 g> - 3rd PhD level in the Immunology program\; working in the lab of Drs. N
 aresha Saligrama & Wayne Yokoyama</p><p>"TBA"</p><p> </p>
LOCATION:Farrell Learning &amp\; Teaching Center\, Holden Auditorium
GEO:38.636032;-90.262806
ORGANIZER;CN="Linda":MAILTO:lindaperniciaro@wustl.edu
URL;VALUE=URI:https://mstp.wustl.edu/events/event/mstp-weekly-student-meeti
 ng-32/
END:VEVENT
BEGIN:VTIMEZONE
TZID:America/Chicago
BEGIN:STANDARD
TZOFFSETFROM:-0500
TZOFFSETTO:-0600
DTSTART:20241103T070000
TZNAME:CST
END:STANDARD
END:VTIMEZONE
END:VCALENDAR
