BEGIN:VCALENDAR
VERSION:2.0
PRODID:-//Medical Scientist Training Program//NONSGML Events//EN
CALSCALE:GREGORIAN
X-ORIGINAL-URL:https://mstp.wustl.edu/events/
X-WR-CALDESC:Medical Scientist Training Program - Events
BEGIN:VEVENT
UID:20240510T0305Z-1715310306.844-EO-4999-1@172.23.128.18
STATUS:CONFIRMED
DTSTAMP:20260425T085914Z
CREATED:20240509T193657Z
LAST-MODIFIED:20240509T193657Z
DTSTART;TZID=America/Chicago:20241121T170000
DTEND;TZID=America/Chicago:20241121T180000
SUMMARY: MSTP Weekly Student Meeting
DESCRIPTION: Discussions on Medical Research – DMR Daniel Kreisel\, MD\, Ph
 D Department of Surgery – Mid America Transplant Endowed Distinguished Chai
 r in Lung Transplantation Transplantation immunology\, tumor immunology\, i
 nnate immunity and ischemia-reperfusion injury
X-ALT-DESC;FMTTYPE=text/html: <p>Discussions on Medical Research - DMR</p><
 p><strong>Daniel Kreisel\, MD\, PhD</strong></p><p>Department of Surgery - 
 Mid America Transplant Endowed Distinguished Chair in Lung Transplantation<
 /p><p><em>Transplantation immunology\, tumor immunology\, innate immunity a
 nd ischemia-reperfusion injury</em></p>
LOCATION:Farrell Learning &amp\; Teaching Center\, Holden Auditorium
GEO:38.636032;-90.262806
ORGANIZER;CN="Linda":MAILTO:lindaperniciaro@wustl.edu
URL;VALUE=URI:https://mstp.wustl.edu/events/event/mstp-weekly-student-meeti
 ng-33/
END:VEVENT
BEGIN:VTIMEZONE
TZID:America/Chicago
BEGIN:STANDARD
TZOFFSETFROM:-0500
TZOFFSETTO:-0600
DTSTART:20241103T070000
TZNAME:CST
END:STANDARD
END:VTIMEZONE
END:VCALENDAR
