BEGIN:VCALENDAR
VERSION:2.0
PRODID:-//Medical Scientist Training Program//NONSGML Events//EN
CALSCALE:GREGORIAN
X-ORIGINAL-URL:https://mstp.wustl.edu/events/
X-WR-CALDESC:Medical Scientist Training Program - Events
BEGIN:VEVENT
UID:20230927T0248Z-1695782934.305-EO-2745-1@172.23.128.18
STATUS:CONFIRMED
DTSTAMP:20260421T170532Z
CREATED:20230926T185307Z
LAST-MODIFIED:20230926T185307Z
DTSTART;TZID=America/Chicago:20231116T170000
DTEND;TZID=America/Chicago:20231116T180000
SUMMARY: MSTP weekly student meeting
DESCRIPTION: Discussions on Medical Research – Joe Ippolito\, M.D.\, Ph.D. 
 Department of Radiology\; Biochemistry\, Biophysics & Structural Biology pr
 ogram   Jennifer Sprague\, M.D.\, Ph.D. Department of Pediatrics – Endocrin
 ology & Diabetes
X-ALT-DESC;FMTTYPE=text/html: <p>Discussions on Medical Research -</p><p>Jo
 e Ippolito\, M.D.\, Ph.D.</p><p>Department of Radiology\; Biochemistry\, Bi
 ophysics & Structural Biology program</p><p> </p><p>Jennifer Sprague\, M.D.
 \, Ph.D.</p><p>Department of Pediatrics - Endocrinology & Diabetes</p>
LOCATION:Farrell Learning &amp\; Teaching Center\, Holden Auditorium
GEO:38.636032;-90.262806
ORGANIZER;CN="Linda":MAILTO:lindaperniciaro@wustl.edu
URL;VALUE=URI:https://mstp.wustl.edu/events/event/mstp-weekly-student-meeti
 ng-4/
END:VEVENT
BEGIN:VTIMEZONE
TZID:America/Chicago
BEGIN:STANDARD
TZOFFSETFROM:-0500
TZOFFSETTO:-0600
DTSTART:20231105T070000
TZNAME:CST
END:STANDARD
END:VTIMEZONE
END:VCALENDAR
