BEGIN:VCALENDAR
VERSION:2.0
PRODID:-//Medical Scientist Training Program//NONSGML Events//EN
CALSCALE:GREGORIAN
X-ORIGINAL-URL:https://mstp.wustl.edu/events/
X-WR-CALDESC:Medical Scientist Training Program - Events
BEGIN:VEVENT
UID:20231207T1751Z-1701971500.028-EO-4884-1@172.23.128.18
STATUS:CONFIRMED
DTSTAMP:20260417T225555Z
CREATED:20231207T173624Z
LAST-MODIFIED:20231207T173624Z
DTSTART;TZID=America/Chicago:20240111T170000
DTEND;TZID=America/Chicago:20240111T180000
SUMMARY: MSTP weekly student meeting
DESCRIPTION: Work in Progress – Morgan Timm – 4th level PhD  in Immunology 
 program\; working in the lab of Dr. Scott Hultgren “TBA” Min Woo (Mitchell)
  Kim – 4th level PhD in the Immunology program\; working in the lab of Dr. 
 Jonathan Kipnis “TBA”    
X-ALT-DESC;FMTTYPE=text/html: <p>Work in Progress -</p><p>Morgan Timm - 4th
  level PhD  in Immunology program\; working in the lab of Dr. Scott Hultgre
 n</p><p>"TBA"</p><p>Min Woo (Mitchell) Kim - 4th level PhD in the Immunolog
 y program\; working in the lab of Dr. Jonathan Kipnis</p><p>"TBA"</p><p> </
 p><p> </p>
CATEGORIES:MSTP Thursday Seminar
LOCATION:Farrell Learning &amp\; Teaching Center\, Holden Auditorium
GEO:38.636032;-90.262806
ORGANIZER;CN="Linda":MAILTO:lindaperniciaro@wustl.edu
URL;VALUE=URI:https://mstp.wustl.edu/events/event/mstp-weekly-student-meeti
 ng-7/
END:VEVENT
BEGIN:VTIMEZONE
TZID:America/Chicago
BEGIN:STANDARD
TZOFFSETFROM:-0500
TZOFFSETTO:-0600
DTSTART:20231105T070000
TZNAME:CST
END:STANDARD
END:VTIMEZONE
END:VCALENDAR
