BEGIN:VCALENDAR
VERSION:2.0
PRODID:-//Medical Scientist Training Program//NONSGML Events//EN
CALSCALE:GREGORIAN
X-ORIGINAL-URL:https://mstp.wustl.edu/events/
X-WR-CALDESC:Medical Scientist Training Program - Events
BEGIN:VEVENT
UID:20240603T1905Z-1717441506.7167-EO-5009-1@172.23.128.18
STATUS:CONFIRMED
DTSTAMP:20260418T003619Z
CREATED:20240603T152913Z
LAST-MODIFIED:20240603T152913Z
DTSTART;TZID=America/Chicago:20240619T130000
DTEND;TZID=America/Chicago:20240619T150000
SUMMARY: Thesis Defense Announcement | Mitchell Kim
DESCRIPTION: MSTP student\, Mitchell Kim\, will be defending his thesis tit
 led “The CNS Immunopeptidome Reveals Endogenous Regulatory Guardian Peptide
 s” Date & Time:  Wednesday\, June 19th at 1pm Location:  Farrell Learning a
 nd Teaching Center\, Holden Auditorium Mitchell is in the Immunology Progra
 m and in the Laboratory of Dr. Jonathan Kipnis\, Department of Pathology an
 d Immunology
X-ALT-DESC;FMTTYPE=text/html: <p>MSTP student\, <strong>Mitchell Kim</stron
 g><b>\,</b> will be defending his thesis titled “<strong>The CNS Immunopept
 idome Reveals Endogenous Regulatory Guardian Peptides</strong>”</p><p>Date 
 & Time:<b>  Wednesday\, June 19th at 1pm</b></p><p>Location:  <strong>Farre
 ll Learning and Teaching Center\, Holden Auditorium</strong></p><p><strong 
 style="font-size: 1.125rem\;"><span class="mark80kesq889" data-markjs="true
 " data-ogac="" data-ogab="" data-ogsc="" data-ogsb="">Mitchell</span> </str
 ong><span style="font-size: 1.125rem\;">is in the <strong>Immunology Progra
 m</strong> and in the Laboratory of <strong>Dr. Jonathan Kipnis\, </strong>
 Department of Pathology and Immunology</span></p>
ORGANIZER;CN="Lori":MAILTO:corzine@wustl.edu
URL;VALUE=URI:https://mstp.wustl.edu/events/event/thesis-defense-announceme
 nt-mitchell-kim/
END:VEVENT
BEGIN:VTIMEZONE
TZID:America/Chicago
BEGIN:DAYLIGHT
TZOFFSETFROM:-0600
TZOFFSETTO:-0500
DTSTART:20240310T080000
TZNAME:CDT
END:DAYLIGHT
END:VTIMEZONE
END:VCALENDAR
