BEGIN:VCALENDAR
VERSION:2.0
PRODID:-//Medical Scientist Training Program//NONSGML Events//EN
CALSCALE:GREGORIAN
X-ORIGINAL-URL:https://mstp.wustl.edu/events/
X-WR-CALDESC:Medical Scientist Training Program - Events
BEGIN:VEVENT
UID:20240322T2152Z-1711144328.1664-EO-4967-1@172.23.128.18
STATUS:CONFIRMED
DTSTAMP:20260419T223610Z
CREATED:20240322T161525Z
LAST-MODIFIED:20240322T161525Z
DTSTART;TZID=America/Chicago:20240401T150000
DTEND;TZID=America/Chicago:20240401T170000
SUMMARY: Thesis Defense Notification | Erin Wang
DESCRIPTION: MSTP student\, Erin Wang\, is defending her thesis titled “Unr
 aveling metabolic determinants of isoniazid susceptibility in Mycobacterium
  tuberculosis” Date & Time: Monday\, April 1st\, at 3:00 p.m. Location:  Mc
 Donnell Pediatric Research Bldg.\, Room 8101 Erin is in the MMMP Program an
 d in the lab of Dr. Christina Stallings\, Department of Molecular Microbiol
 ogy.
X-ALT-DESC;FMTTYPE=text/html: <p>MSTP student\, <b><span class="markcvs0bh7
 8k" data-markjs="true" data-ogac="" data-ogab="" data-ogsc="" data-ogsb="">
 Erin</span> <span class="markkasledgru" data-markjs="true" data-ogac="" dat
 a-ogab="" data-ogsc="" data-ogsb="">Wang</span>\,</b> is defending her thes
 is titled <b>“Unraveling metabolic determinants of isoniazid susceptibility
  in Mycobacterium tuberculosis”</b></p><p>Date & Time:<b> Monday\, April 1s
 t\, at 3:00 p.m.</b></p><p>Location: <b> McDonnell Pediatric Research Bldg.
 \, Room 8101</b></p><p><span class="markcvs0bh78k" data-markjs="true" data-
 ogac="" data-ogab="" data-ogsc="" data-ogsb="">Erin</span> is in the MMMP P
 rogram and in the lab of Dr. Christina Stallings\, Department of Molecular 
 Microbiology.</p>
ORGANIZER;CN="Lori":MAILTO:corzine@wustl.edu
URL;VALUE=URI:https://mstp.wustl.edu/events/event/thesis-defense-notificati
 on-erin-wang/
END:VEVENT
BEGIN:VTIMEZONE
TZID:America/Chicago
BEGIN:DAYLIGHT
TZOFFSETFROM:-0600
TZOFFSETTO:-0500
DTSTART:20240310T080000
TZNAME:CDT
END:DAYLIGHT
END:VTIMEZONE
END:VCALENDAR
