BEGIN:VCALENDAR
VERSION:2.0
PRODID:-//Medical Scientist Training Program//NONSGML Events//EN
CALSCALE:GREGORIAN
X-ORIGINAL-URL:https://mstp.wustl.edu/events/
X-WR-CALDESC:Medical Scientist Training Program - Events
BEGIN:VEVENT
UID:20240418T0905Z-1713431108.0685-EO-4971-1@172.23.128.18
STATUS:CONFIRMED
DTSTAMP:20260420T072135Z
CREATED:20240417T192317Z
LAST-MODIFIED:20240417T192334Z
DTSTART;TZID=America/Chicago:20240429T133000
DTEND;TZID=America/Chicago:20240429T153000
SUMMARY: Thesis Defense Notification | Graham Hogg
DESCRIPTION: MSTP student\, Graham Hogg\, will be defending his thesis titl
 ed “Combined Flt3L and CD40 agonism restores dendritic cell driven T cell i
 mmunity in mouse models and patients with pancreatic cancer” Date & Time: M
 onday\, April 29th at 1:30pm Location:  Eric P. Newman Education Center “EP
 NEC”\, Seminar room A Graham is in the Immunology Program and […]
X-ALT-DESC;FMTTYPE=text/html: <p>MSTP student\, <strong>Graham Hogg</strong
 ><b>\,</b> will be defending his thesis titled “<strong>Combined Flt3L and 
 CD40 agonism restores dendritic cell driven T cell immunity in mouse models
  and patients with pancreatic cancer</strong>”</p><p>Date & Time:<b> Monday
 \, April 29th at 1:30pm</b></p><p>Location:  Eric P. Newman Education Cente
 r "<b>EPNEC"\, Seminar room A</b></p><p><span class="mark80kesq889" data-ma
 rkjs="true" data-ogac="" data-ogab="" data-ogsc="" data-ogsb="">Graham</spa
 n> is in the Immunology Program and in the lab of Dr. David DeNardo\, Depar
 tment of Internal Medicine</p>
ORGANIZER;CN="Lori":MAILTO:corzine@wustl.edu
URL;VALUE=URI:https://mstp.wustl.edu/events/event/thesis-defense-notificati
 on-graham-hogg/
END:VEVENT
BEGIN:VTIMEZONE
TZID:America/Chicago
BEGIN:DAYLIGHT
TZOFFSETFROM:-0600
TZOFFSETTO:-0500
DTSTART:20240310T080000
TZNAME:CDT
END:DAYLIGHT
END:VTIMEZONE
END:VCALENDAR
