BEGIN:VCALENDAR
VERSION:2.0
PRODID:-//Medical Scientist Training Program//NONSGML Events//EN
CALSCALE:GREGORIAN
X-ORIGINAL-URL:https://mstp.wustl.edu/events/
X-WR-CALDESC:Medical Scientist Training Program - Events
BEGIN:VEVENT
UID:20240507T1505Z-1715094306.8505-EO-4974-1@172.23.128.18
STATUS:CONFIRMED
DTSTAMP:20260424T131107Z
CREATED:20240507T140527Z
LAST-MODIFIED:20240507T140616Z
DTSTART;TZID=America/Chicago:20240506T120000
DTEND;TZID=America/Chicago:20240506T140000
SUMMARY: Thesis Defense Notification | Hannah Lynn
DESCRIPTION: MSTP student\, Hannah Lynn\, will be defending his thesis titl
 ed “A carbohydrate-focused approach to developing microbiota directed foods
  for undernutrition” Date & Time: Monday\, May 6 at 12:00pm Location:  Eric
  P. Newman Education Center “FLTC”\, Holden Auditorium Hannah is in the Mol
 ecular Cell Biology Program and in the lab of Dr. Jeffrey Gordon\, Departme
 nt of […]
X-ALT-DESC;FMTTYPE=text/html: <p>MSTP student\, <strong>Hannah Lynn</strong
 ><b>\,</b> will be defending his thesis titled “<strong>A carbohydrate-focu
 sed approach to developing microbiota directed foods for undernutrition</st
 rong>”</p><p>Date & Time:<b> Monday\, May 6 at 12:00pm</b></p><p>Location: 
  Eric P. Newman Education Center “<b>FLTC”\, Holden Auditorium</b></p><p><s
 pan class="mark80kesq889" data-markjs="true" data-ogac="" data-ogab="" data
 -ogsc="" data-ogsb="">Hannah</span> is in the Molecular Cell Biology Progra
 m and in the lab of Dr. Jeffrey Gordon\, Department of Pathology and Immuno
 logy</p>
ORGANIZER;CN="Lori":MAILTO:corzine@wustl.edu
URL;VALUE=URI:https://mstp.wustl.edu/events/event/thesis-defense-notificati
 on-hannah-lynn/
END:VEVENT
BEGIN:VTIMEZONE
TZID:America/Chicago
BEGIN:DAYLIGHT
TZOFFSETFROM:-0600
TZOFFSETTO:-0500
DTSTART:20240310T080000
TZNAME:CDT
END:DAYLIGHT
END:VTIMEZONE
END:VCALENDAR
