BEGIN:VCALENDAR
VERSION:2.0
PRODID:-//Medical Scientist Training Program//NONSGML Events//EN
CALSCALE:GREGORIAN
X-ORIGINAL-URL:https://mstp.wustl.edu/events/
X-WR-CALDESC:Medical Scientist Training Program - Events
BEGIN:VEVENT
UID:20240603T1905Z-1717441506.6703-EO-5001-1@172.23.128.18
STATUS:CONFIRMED
DTSTAMP:20260421T170538Z
CREATED:20240603T144301Z
LAST-MODIFIED:20240603T144529Z
DTSTART;TZID=America/Chicago:20240516T133000
DTEND;TZID=America/Chicago:20240516T153000
SUMMARY: Thesis Defense Notification | Jordan Shaw
DESCRIPTION: MSTP student\, Jordan Shaw\, will be defending her thesis titl
 ed “Sex/Gender is Self-Identified” Date & Time: Thursday\, May 16\, at 1:30
  p.m. Location:  Private Jordan is in the Program in Philosophy\, Neuroscie
 nce and Psychology and in the Laboratory of Dr. Ron Mallon\, Department of 
 Philosophy
X-ALT-DESC;FMTTYPE=text/html: <p class="x_MsoNormal">MSTP student\, <b>Jord
 an Shaw\,</b> will be defending her thesis titled “<strong>Sex/Gender is Se
 lf-Identified</strong>”</p><p class="x_MsoNormal">Date & Time:<b> Thursday\
 , May 16\, at 1:30 p.m.</b></p><p class="x_MsoNormal">Location:  <b>Private
 </b></p><p class="x_MsoNormal">Jordan is in the Program in Philosophy\, Neu
 roscience and Psychology and in the Laboratory of Dr. Ron Mallon\, Departme
 nt of Philosophy</p>
ORGANIZER;CN="Lori":MAILTO:corzine@wustl.edu
URL;VALUE=URI:https://mstp.wustl.edu/events/event/thesis-defense-notificati
 on-jordan-shaw-2/
END:VEVENT
BEGIN:VTIMEZONE
TZID:America/Chicago
BEGIN:DAYLIGHT
TZOFFSETFROM:-0600
TZOFFSETTO:-0500
DTSTART:20240310T080000
TZNAME:CDT
END:DAYLIGHT
END:VTIMEZONE
END:VCALENDAR
