BEGIN:VCALENDAR
VERSION:2.0
PRODID:-//Medical Scientist Training Program//NONSGML Events//EN
CALSCALE:GREGORIAN
X-ORIGINAL-URL:https://mstp.wustl.edu/events/
X-WR-CALDESC:Medical Scientist Training Program - Events
BEGIN:VEVENT
UID:20240510T0305Z-1715310306.7428-EO-4977-1@172.23.128.18
STATUS:CONFIRMED
DTSTAMP:20260419T185922Z
CREATED:20240509T165730Z
LAST-MODIFIED:20240603T144634Z
DTSTART;TZID=America/Chicago:20240509T120000
DTEND;TZID=America/Chicago:20240509T130000
SUMMARY: Thesis Defense Notification | Jordan Shaw
DESCRIPTION: MSTP student\, Jordan Shaw\, will be defending her thesis titl
 ed “Sex/Gender is Self-Identified” Date & Time: Thursday\, May 16th\, 2024 
 Location:  PRIVATE DEFENSE Jordan is in the Program in Philosophy\, Neurosc
 ience and Psychology\, advisee of Dr. Ron Mallon\, Department of Philosophy
 .
X-ALT-DESC;FMTTYPE=text/html: <p>MSTP student\, <strong>Jordan Shaw</strong
 ><b>\,</b> will be defending her thesis titled “<strong>Sex/Gender is Self-
 Identified</strong>”</p><p>Date & Time:<b> Thursday\, May 16th\, 2024</b></
 p><p>Location:  PRIVATE DEFENSE</p><p>Jordan is in the Program in Philosoph
 y\, Neuroscience and Psychology\, advisee of Dr. Ron Mallon\, Department of
  Philosophy.</p>
ORGANIZER;CN="Lori":MAILTO:corzine@wustl.edu
URL;VALUE=URI:https://mstp.wustl.edu/events/event/thesis-defense-notificati
 on-jordan-shaw/
END:VEVENT
BEGIN:VTIMEZONE
TZID:America/Chicago
BEGIN:DAYLIGHT
TZOFFSETFROM:-0600
TZOFFSETTO:-0500
DTSTART:20240310T080000
TZNAME:CDT
END:DAYLIGHT
END:VTIMEZONE
END:VCALENDAR
