BEGIN:VCALENDAR
VERSION:2.0
PRODID:-//Medical Scientist Training Program//NONSGML Events//EN
CALSCALE:GREGORIAN
X-ORIGINAL-URL:https://mstp.wustl.edu/events/
X-WR-CALDESC:Medical Scientist Training Program - Events
BEGIN:VEVENT
UID:20240322T2152Z-1711144328.1611-EO-4966-1@172.23.128.18
STATUS:CONFIRMED
DTSTAMP:20260419T210817Z
CREATED:20240322T161423Z
LAST-MODIFIED:20240322T161720Z
DTSTART;TZID=America/Chicago:20240401T130000
DTEND;TZID=America/Chicago:20240401T150000
SUMMARY: Thesis Defense Notification | Nicole Hamagami
DESCRIPTION: MSTP student\, Nicole Hamagami-Samson\, will be defending her 
 thesis titled “Elucidating the coordinated role of histone modifications on
  the establishment and regulation of a neuronal-specific methylome” Date & 
 Time: Monday\, April 1st\, 2024 at 1:00 p.m. Location:  FLTC\, Holden Audit
 orium Nicole is in the Molecular Genetics & Genomics Program and in the lab
  of Dr. Harrison Gabel in the Department of […]
X-ALT-DESC;FMTTYPE=text/html: <p class="x_elementToProof">MSTP student\, <b
 >Nicole <span class="markswisso3my" data-markjs="true" data-ogac="" data-og
 ab="" data-ogsc="" data-ogsb="">Hamagami</span>-Samson\,</b> will be defend
 ing her thesis titled “<b>Elucidating the coordinated role of histone modif
 ications on the establishment and regulation of a neuronal-specific methylo
 me</b>”</p><p class="x_elementToProof">Date & Time:<b> Monday\, April 1st\,
  2024 at 1:00 p.m.</b></p><p class="x_elementToProof">Location:  <b>FLTC\, 
 Holden Auditorium</b></p><p class="x_elementToProof">Nicole is in the Molec
 ular Genetics & Genomics Program and in the lab of Dr. Harrison Gabel in th
 e Department of Neuroscience.</p>
ORGANIZER;CN="Lori":MAILTO:corzine@wustl.edu
URL;VALUE=URI:https://mstp.wustl.edu/events/event/thesis-defense-notificati
 on-nicole-hamagami/
END:VEVENT
BEGIN:VTIMEZONE
TZID:America/Chicago
BEGIN:DAYLIGHT
TZOFFSETFROM:-0600
TZOFFSETTO:-0500
DTSTART:20240310T080000
TZNAME:CDT
END:DAYLIGHT
END:VTIMEZONE
END:VCALENDAR
