BEGIN:VCALENDAR
VERSION:2.0
PRODID:-//Medical Scientist Training Program//NONSGML Events//EN
CALSCALE:GREGORIAN
X-ORIGINAL-URL:https://mstp.wustl.edu/events/
X-WR-CALDESC:Medical Scientist Training Program - Events
BEGIN:VEVENT
UID:20240322T2152Z-1711144328.1639-EO-4965-1@172.23.128.18
STATUS:CONFIRMED
DTSTAMP:20260421T020619Z
CREATED:20240322T161328Z
LAST-MODIFIED:20240322T161328Z
DTSTART;TZID=America/Chicago:20240401T143000
DTEND;TZID=America/Chicago:20240401T163000
SUMMARY: Thesis Defense Notification | Noah Earland
DESCRIPTION: MSTP student\, Noah Earland\, will be defending his thesis tit
 led “Development of cell-free DNA and immune cell liquid biopsies to strati
 fy risk of disease progression and treatment toxicity” Date & Time: Monday\
 , April 1st\, at 2:30 p.m. Location:  EPNEC\, Seminar Room A Noah is in the
  Immunology Program and in the lab of Dr. Aadel Chaudhuri\, Department of R
 adiation Oncology.
X-ALT-DESC;FMTTYPE=text/html: <p>MSTP student\, <b>Noah <span class="markod
 zflja9n" data-markjs="true" data-ogac="" data-ogab="" data-ogsc="" data-ogs
 b="">Earland</span>\,</b> will be defending his thesis titled <b>“Developme
 nt of cell-free DNA and immune cell liquid biopsies to stratify risk of dis
 ease progression and treatment toxicity”</b></p><p>Date & Time:<b> Monday\,
  April 1st\, at 2:30 p.m.</b></p><p>Location: <b> EPNEC\, Seminar Room A</b
 ></p><p>Noah is in the Immunology Program and in the lab of Dr. Aadel Chaud
 huri\, Department of Radiation Oncology.</p>
ORGANIZER;CN="Lori":MAILTO:corzine@wustl.edu
URL;VALUE=URI:https://mstp.wustl.edu/events/event/thesis-defense-notificati
 on-noah-earland/
END:VEVENT
BEGIN:VTIMEZONE
TZID:America/Chicago
BEGIN:DAYLIGHT
TZOFFSETFROM:-0600
TZOFFSETTO:-0500
DTSTART:20240310T080000
TZNAME:CDT
END:DAYLIGHT
END:VTIMEZONE
END:VCALENDAR
