BEGIN:VCALENDAR
VERSION:2.0
PRODID:-//Medical Scientist Training Program//NONSGML Events//EN
CALSCALE:GREGORIAN
X-ORIGINAL-URL:https://mstp.wustl.edu/events/
X-WR-CALDESC:Medical Scientist Training Program - Events
BEGIN:VEVENT
UID:20240322T2152Z-1711144328.1691-EO-4969-1@172.23.128.18
STATUS:CONFIRMED
DTSTAMP:20260420T043527Z
CREATED:20240322T161657Z
LAST-MODIFIED:20240322T161657Z
DTSTART;TZID=America/Chicago:20240404T100000
DTEND;TZID=America/Chicago:20240404T120000
SUMMARY: Thesis Defense Notification | Shashank Anand
DESCRIPTION: MSTP student\, Shashank Anand\, will be defending his thesis t
 itled “An exploration into network analyses of motor behavior\, brain-compu
 ter interface control\, arousal states\, and ischemic lesion models” Date &
  Time: Thursday\, April 4th\, at 10:00 a.m. Location:  EPNEC\, Seminar Room
  A Shashank is in the Biomedical Engineering program and in the lab of Dr. 
 Dan Moran\, Department of Biomedical Engineering.
X-ALT-DESC;FMTTYPE=text/html: <p>MSTP student\, <b>Shashank <span class="ma
 rkro91653pi" data-markjs="true" data-ogac="" data-ogab="" data-ogsc="" data
 -ogsb="">Anand</span>\,</b> will be defending his thesis titled <b>“An expl
 oration into network analyses of motor behavior\, brain-computer interface 
 control\, arousal states\, and ischemic lesion models”</b></p><p>Date & Tim
 e:<b> Thursday\, April 4th\, at 10:00 a.m.</b></p><p>Location: <b> EPNEC\, 
 Seminar Room A</b></p><p>Shashank is in the Biomedical Engineering program 
 and in the lab of Dr. Dan Moran\, Department of Biomedical Engineering.</p>
ORGANIZER;CN="Lori":MAILTO:corzine@wustl.edu
URL;VALUE=URI:https://mstp.wustl.edu/events/event/thesis-defense-notificati
 on-shashank-anand/
END:VEVENT
BEGIN:VTIMEZONE
TZID:America/Chicago
BEGIN:DAYLIGHT
TZOFFSETFROM:-0600
TZOFFSETTO:-0500
DTSTART:20240310T080000
TZNAME:CDT
END:DAYLIGHT
END:VTIMEZONE
END:VCALENDAR
