BEGIN:VCALENDAR
VERSION:2.0
PRODID:-//Medical Scientist Training Program//NONSGML Events//EN
CALSCALE:GREGORIAN
X-ORIGINAL-URL:https://mstp.wustl.edu/events/
X-WR-CALDESC:Medical Scientist Training Program - Events
BEGIN:VEVENT
UID:20240510T0305Z-1715310306.8234-EO-4995-1@172.23.128.18
STATUS:CONFIRMED
DTSTAMP:20260420T022029Z
CREATED:20240509T192234Z
LAST-MODIFIED:20240509T192234Z
DTSTART;TZID=America/Chicago:20241017T170000
DTEND;TZID=America/Chicago:20241017T180000
SUMMARY: Weekly Student Meeting
DESCRIPTION: Discussions of Medical Research – DMR Sidharth Puram\, MD\, Ph
 D Department of Otolaryngology\; Cancer Biology program Understanding the r
 ole of tumor heterogeneity in cancer biology\, including its contributions 
 to cancer development\, growth\, metastasis\, and treatment resistance mech
 anisms\, in order to translate these insights into new diagnostics and nove
 l therapeutics
X-ALT-DESC;FMTTYPE=text/html: <p>Discussions of Medical Research - DMR</p><
 p><strong>Sidharth Puram\, MD\, PhD</strong></p><p>Department of Otolaryngo
 logy\; Cancer Biology program</p><p><em>Understanding the role of tumor het
 erogeneity in cancer biology\, including its contributions to cancer develo
 pment\, growth\, metastasis\, and treatment resistance mechanisms\, in orde
 r to translate these insights into new diagnostics and novel therapeutics</
 em></p>
LOCATION:Farrell Learning &amp\; Teaching Center\, Holden Auditorium
GEO:38.636032;-90.262806
ORGANIZER;CN="Linda":MAILTO:lindaperniciaro@wustl.edu
URL;VALUE=URI:https://mstp.wustl.edu/events/event/weekly-student-meeting-2/
END:VEVENT
BEGIN:VTIMEZONE
TZID:America/Chicago
BEGIN:DAYLIGHT
TZOFFSETFROM:-0600
TZOFFSETTO:-0500
DTSTART:20240310T080000
TZNAME:CDT
END:DAYLIGHT
END:VTIMEZONE
END:VCALENDAR
