BEGIN:VCALENDAR
VERSION:2.0
PRODID:-//Medical Scientist Training Program//NONSGML Events//EN
CALSCALE:GREGORIAN
X-ORIGINAL-URL:https://mstp.wustl.edu/events/
X-WR-CALDESC:Medical Scientist Training Program - Events
BEGIN:VEVENT
UID:20240510T0305Z-1715310306.7888-EO-4986-1@172.23.128.18
STATUS:CONFIRMED
DTSTAMP:20260420T092653Z
CREATED:20240509T184930Z
LAST-MODIFIED:20240509T200819Z
DTSTART;TZID=America/Chicago:20240711T170000
DTEND;TZID=America/Chicago:20240711T180000
SUMMARY: Weekly Student Meeting
DESCRIPTION: Work in Progress – WIP The 2 students are: Grace Uwase – 3rd P
 hD level in the Molecular Microbiology & Microbial Pathogenesis program\; w
 orking in the lab of Dr. Gaya Amarasinghe “TBA” Steven Ryu – 4th PhD level 
 in the Neurosciences program\; working in the lab of Dr. Adam Kepecs “TBA”
X-ALT-DESC;FMTTYPE=text/html: <p>Work in Progress - WIP</p><p>The 2 student
 s are:</p><p><strong>Grace Uwase</strong> - 3rd PhD level in the Molecular 
 Microbiology & Microbial Pathogenesis program\; working in the lab of Dr. G
 aya Amarasinghe</p><p>"TBA"</p><p><strong>Steven Ryu</strong> - 4th PhD lev
 el in the Neurosciences program\; working in the lab of Dr. Adam Kepecs</p>
 <p>"TBA"</p>
ORGANIZER;CN="Linda":MAILTO:lindaperniciaro@wustl.edu
URL;VALUE=URI:https://mstp.wustl.edu/events/event/weekly-student-meeting/
END:VEVENT
BEGIN:VTIMEZONE
TZID:America/Chicago
BEGIN:DAYLIGHT
TZOFFSETFROM:-0600
TZOFFSETTO:-0500
DTSTART:20240310T080000
TZNAME:CDT
END:DAYLIGHT
END:VTIMEZONE
END:VCALENDAR
